Workbook

Sheet NNE_SWT
A1: Netzentgeltrechner Gas
A2: Preisstand: 01.01.2027 - vorläufiges Entgelt
A4: Kundenangaben
A6: Jahresmenge | B6: 5000000 | C6: kWh
A8: max. Leistung | B8: 1350 | C8: kW
A10: Kundengruppe | B10: RLM | F10: RLM
F11: SLP
A12: Mengenumwerter | B12: FALSE
A14: Messung | B14: G 40 - G 100
A16: Abrechnungsintervall | B16: FALSE
A19: Netzentgelt
B20: EUR | C20: ct/kWh | D20: €/kW
A21: AP= | B21: =IF(B10="SLP",SLP!H12,IF(B10="RLM",RLM!G35,0)) -> 18640 | C21: =IF(B10="SLP",SLP!H13,IF(B10="RLM",RLM!G36,0)) -> 0.3728
A22: LP= | B22: =IF(B10="SLP",0,IF(B10="RLM",RLM!G17,0)) -> 29052.27 | C22: =IF(B10="SLP",0,IF(B10="RLM",RLM!G18,0)) -> 0.5810454 | D22: =B22/B8 -> 21.5202
A23: Summe= | B23: =SUM(B21:B22) -> 47692.27 | C23: =SUM(C21:C22) -> 0.9538454
A26: Messstellenbetrieb | B26: G 2,5 - G 6 | C26: =IF(B$14=B26,15.09,0) -> 0 | D26: €/a
B27: G 10 - G 25 | C27: =IF(B$14=B27,34.44,0) -> 0 | D27: €/a
B28: G 40 - G 100 | C28: =IF(B$14=B28,196.32,0) -> 196.32 | D28: €/a
B29: größer G 100 | C29: =IF(B$14=B29,753.76,0) -> 0 | D29: €/a
A30: Messdienstleistung | B30: G 2,5 - G 6 | C30: =IF(B30=B14,IF(B10="RLM",242,5.2),0) -> 0 | D30: €/a
B31: G 10 - G 25 | C31: =IF(B31=B14,IF(B10="RLM",242,5.2),0) -> 0 | D31: €/a
B32: G 40 - G 100 | C32: =IF(B32=B14,IF(B10="RLM",242,5.2),0) -> 242 | D32: €/a
B33: größer G 100 | C33: =IF(B33=B14,IF(B10="RLM",242,5.2),0) -> 0 | D33: €/a
A34: Mengenumwerter (MEUW) | C34: =IF(B10="RLM",IF(B12=TRUE,793.25,331.21),0) -> 331.21 | D34: €/a
A35: Fernauslesung/Modem | C35: =IF(B10="RLM",289.17,0) -> 289.17 | D35: €/a
A37: Zwischen-Summe | C37: =SUM(C26:C35) -> 1058.7
A39: Summe | C39: =C37+B23 -> 48750.97 | D39: EUR

Sheet SLP
A1: 1.1 Netzentgelte für Entnahmen ohne Leistungsmessung
A2: Jahresarbeit
A3: Arbeitspreis
A4: Zone | C4: von | D4: bis | E4: AP | F4: GP | H4: Temp
C5: kWh | D5: kWh | E5: ct/kWh | F5: EUR | G5: EUR | H5: EUR
A6: JA | B6: 1 | C6: 1 | D6: 1000 | E6: 3.369 | F6: 6 | G6: =NNE_SWT!$B$6*E6/100+F6 -> 168456 | H6: =IF(I6=1,G6,0) -> 0 | I6: =IF(AND(NNE_SWT!B$6>=C6,NNE_SWT!B$6<=D6),1, 0) -> 0
A7: JA | B7: 2 | C7: 1001 | D7: 4000 | E7: 2.769 | F7: 12 | G7: =NNE_SWT!$B$6*E7/100+F7 -> 138462 | H7: =IF(I7=1,G7,0) -> 0 | I7: =IF(AND(NNE_SWT!B$6>=C7,NNE_SWT!B$6<=D7),1, 0) -> 0
A8: JA | B8: 3 | C8: 4001 | D8: 50000 | E8: 2.469 | F8: 24 | G8: =NNE_SWT!$B$6*E8/100+F8 -> 123474 | H8: =IF(I8=1,G8,0) -> 0 | I8: =IF(AND(NNE_SWT!B$6>=C8,NNE_SWT!B$6<=D8),1, 0) -> 0
A9: JA | B9: 4 | C9: 50001 | D9: 150000 | E9: 2.277 | F9: 120 | G9: =NNE_SWT!$B$6*E9/100+F9 -> 113970 | H9: =IF(I9=1,G9,0) -> 0 | I9: =IF(AND(NNE_SWT!B$6>=C9,NNE_SWT!B$6<=D9),1, 0) -> 0
A10: JA | B10: 5 | C10: 150001 | D10: 1500000 | E10: 2.237 | F10: 180 | G10: =NNE_SWT!$B$6*E10/100+F10 -> 112030 | H10: =IF(I10=1,G10,0) -> 0 | I10: =IF(AND(NNE_SWT!B$6>=C10,NNE_SWT!B$6<=D10),1, 0) -> 0
D11: gößer 1,5 Mio. kWh | G11: =NNE_SWT!$B$6*E10/100+F10 -> 112030 | H11: =IF(I11=1,G11,0) -> 112030 | I11: =IF(NNE_SWT!B$6>D10,1, 0) -> 1
C12: 1500001 | G12: Summe | H12: =SUM(H6:H11) -> 112030
G13: AP = | H13: =H12/NNE_SWT!B6*100 -> 2.2406 | I13: ct/kWh

Sheet RLM
A1: 1.2.1 Leistungspreis für Entnahmen mit Leistungsmessung
A2: Jahreshöchstleistung
A5: Leistungspreis
A7: Zone | C7: von | D7: bis | G7: Temp
C8: kW | D8: kW | E8: €/kW | F8: EUR | G8: EUR
A9: LV | B9: 1 | C9: 1 | D9: 801 | E9: 22.24 | F9: =D9*E9 -> 17814.24 | G9: =IF(I9=1,F9,IF(H9=1,(NNE_SWT!B$8)*E9,0)) -> 17814.24 | H9: =IF(AND(NNE_SWT!B$8>=C9,NNE_SWT!B$8<=D9),1, 0) -> 0 | I9: =IF(NNE_SWT!B$8>=D9,1,0) -> 1
A10: LV | B10: 2 | C10: =D9+1 -> 802 | D10: 1857 | E10: 20.47 | F10: =(D10-D9)*E10 -> 21616.32 | G10: =IF(I10=1,F10,IF(H10=1,(NNE_SWT!B$8-D9)*E10,0)) -> 11238.03 | H10: =IF(AND(NNE_SWT!B$8>=C10,NNE_SWT!B$8<=D10),1, 0) -> 1 | I10: =IF(NNE_SWT!B$8>=D10,1,0) -> 0
A11: LV | B11: 3 | C11: =D10+1 -> 1858 | D11: 3364 | E11: 17.69 | F11: =(D11-D10)*E11 -> 26658.83 | G11: =IF(I11=1,F11,IF(H11=1,(NNE_SWT!B$8-D10)*E11,0)) -> 0 | H11: =IF(AND(NNE_SWT!B$8>=C11,NNE_SWT!B$8<=D11),1, 0) -> 0 | I11: =IF(NNE_SWT!B$8>=D11,1,0) -> 0
A12: LV | B12: 4 | C12: =D11+1 -> 3365 | D12: 7059 | E12: 14.15 | F12: =(D12-D11)*E12 -> 52284.25 | G12: =IF(I12=1,F12,IF(H12=1,(NNE_SWT!B$8-D11)*E12,0)) -> 0 | H12: =IF(AND(NNE_SWT!B$8>=C12,NNE_SWT!B$8<=D12),1, 0) -> 0 | I12: =IF(NNE_SWT!B$8>=D12,1,0) -> 0
A13: LV | B13: 5 | C13: =D12+1 -> 7060 | D13: 10142 | E13: 12.84 | F13: =(D13-D12)*E13 -> 39585.72 | G13: =IF(I13=1,F13,IF(H13=1,(NNE_SWT!B$8-D12)*E13,0)) -> 0 | H13: =IF(AND(NNE_SWT!B$8>=C13,NNE_SWT!B$8<=D13),1, 0) -> 0 | I13: =IF(NNE_SWT!B$8>=D13,1,0) -> 0
A14: LV | B14: 6 | C14: =D13+1 -> 10143 | D14: 13073 | E14: 8.93 | F14: =(D14-D13)*E14 -> 26173.83 | G14: =IF(I14=1,F14,IF(H14=1,(NNE_SWT!B$8-D13)*E14,0)) -> 0 | H14: =IF(AND(NNE_SWT!B$8>=C14,NNE_SWT!B$8<=D14),1, 0) -> 0 | I14: =IF(NNE_SWT!B$8>=D14,1,0) -> 0
A15: LV | B15: 7 | C15: =D14+1 -> 13074 | D15: 29298 | E15: 7.93 | F15: =(D15-D14)*E15 -> 128664.25 | G15: =IF(I15=1,F15,IF(H15=1,(NNE_SWT!B$8-D14)*E15,0)) -> 0 | H15: =IF(AND(NNE_SWT!B$8>=C15,NNE_SWT!B$8<=D15),1, 0) -> 0 | I15: =IF(NNE_SWT!B$8>=D15,1,0) -> 0
A16: LV | B16: 8 | C16: =D15+1 -> 29299 | D16: 99999 | E16: 7.52 | F16: =(D16-D15)*E16 -> 531671.52 | G16: =IF(I16=1,F16,IF(H16=1,(NNE_SWT!B$8-D15)*E16,0)) -> 0 | H16: =IF(AND(NNE_SWT!B$8>=C16,NNE_SWT!B$8<=D16),1, 0) -> 0 | I16: =IF(NNE_SWT!B$8>=D16,1,0) -> 0
F17: Summe | G17: =SUM(G9:G16) -> 29052.27
F18: LP = | G18: =G17/NNE_SWT!B6*100 -> 0.5810454 | H18: ct/kWh
A19: 1.2.2 Arbeitspreis für Entnahmen mit Leistungsmessung
A21: Jahresarbeit
A24: Arbeitspreis
A25: Zone | C25: von | D25: bis | G25: Temp
C26: kWh | D26: kWh | E26: ct/kWh | F26: EUR | G26: EUR
A27: LA | B27: 1 | C27: 1 | D27: 1500000 | E27: 0.42 | F27: =D27*E27/100 -> 6300 | G27: =IF(I27=1,F27,IF(H27=1,(NNE_SWT!B$6)/100*E27,0)) -> 6300 | H27: =IF(AND(NNE_SWT!B$6>=C27,NNE_SWT!B$6<=D27),1, 0) -> 0 | I27: =IF(NNE_SWT!B$6>=D27,1,0) -> 1
A28: LA | B28: 2 | C28: =D27+1 -> 1500001 | D28: 4000000 | E28: 0.37 | F28: =(D28-D27)*E28/100 -> 9250 | G28: =IF(I28=1,F28,IF(H28=1,(NNE_SWT!B$6-D27)/100*E28,0)) -> 9250 | H28: =IF(AND(NNE_SWT!B$6>=C28,NNE_SWT!B$6<=D28),1, 0) -> 0 | I28: =IF(NNE_SWT!B$6>=D28,1,0) -> 1
A29: LA | B29: 3 | C29: =D28+1 -> 4000001 | D29: 8000000 | E29: 0.309 | F29: =(D29-D28)*E29/100 -> 12360 | G29: =IF(I29=1,F29,IF(H29=1,(NNE_SWT!B$6-D28)/100*E29,0)) -> 3090 | H29: =IF(AND(NNE_SWT!B$6>=C29,NNE_SWT!B$6<=D29),1, 0) -> 1 | I29: =IF(NNE_SWT!B$6>=D29,1,0) -> 0
A30: LA | B30: 4 | C30: =D29+1 -> 8000001 | D30: 19000000 | E30: 0.246 | F30: =(D30-D29)*E30/100 -> 27060 | G30: =IF(I30=1,F30,IF(H30=1,(NNE_SWT!B$6-D29)/100*E30,0)) -> 0 | H30: =IF(AND(NNE_SWT!B$6>=C30,NNE_SWT!B$6<=D30),1, 0) -> 0 | I30: =IF(NNE_SWT!B$6>=D30,1,0) -> 0
A31: LA | B31: 5 | C31: =D30+1 -> 19000001 | D31: 29000000 | E31: 0.196 | F31: =(D31-D30)*E31/100 -> 19600 | G31: =IF(I31=1,F31,IF(H31=1,(NNE_SWT!B$6-D30)/100*E31,0)) -> 0 | H31: =IF(AND(NNE_SWT!B$6>=C31,NNE_SWT!B$6<=D31),1, 0) -> 0 | I31: =IF(NNE_SWT!B$6>=D31,1,0) -> 0
A32: LA | B32: 6 | C32: =D31+1 -> 29000001 | D32: 39000000 | E32: 0.186 | F32: =(D32-D31)*E32/100 -> 18600 | G32: =IF(I32=1,F32,IF(H32=1,(NNE_SWT!B$6-D31)/100*E32,0)) -> 0 | H32: =IF(AND(NNE_SWT!B$6>=C32,NNE_SWT!B$6<=D32),1, 0) -> 0 | I32: =IF(NNE_SWT!B$6>=D32,1,0) -> 0
A33: LA | B33: 7 | C33: =D32+1 -> 39000001 | D33: 100000000 | E33: 0.166 | F33: =(D33-D32)*E33/100 -> 101260 | G33: =IF(I33=1,F33,IF(H33=1,(NNE_SWT!B$6-D32)/100*E33,0)) -> 0 | H33: =IF(AND(NNE_SWT!B$6>=C33,NNE_SWT!B$6<=D33),1, 0) -> 0 | I33: =IF(NNE_SWT!B$6>=D33,1,0) -> 0
A34: LA | B34: 8 | C34: =D33+1 -> 100000001 | D34: 1000000000 | E34: 0.163 | F34: =(D34-D33)*E34/100 -> 1467000 | G34: =IF(I34=1,F34,IF(H34=1,(NNE_SWT!B$6-D33)/100*E34,0)) -> 0 | H34: =IF(AND(NNE_SWT!B$6>=C34,NNE_SWT!B$6<=D34),1, 0) -> 0 | I34: =IF(NNE_SWT!B$6>=D34,1,0) -> 0
F35: Summe | G35: =SUM(G27:G34) -> 18640
F36: AP = | G36: =G35/NNE_SWT!B6*100 -> 0.3728 | H36: ct/kWh
